BEGIN:VCALENDAR
VERSION:2.0
PRODID:-//Maxwell Recruitment &amp; Training - ECPv6.15.20//NONSGML v1.0//EN
CALSCALE:GREGORIAN
METHOD:PUBLISH
X-WR-CALNAME:Maxwell Recruitment &amp; Training
X-ORIGINAL-URL:https://maxwellrt.com.au
X-WR-CALDESC:Events for Maxwell Recruitment &amp; Training
REFRESH-INTERVAL;VALUE=DURATION:PT1H
X-Robots-Tag:noindex
X-PUBLISHED-TTL:PT1H
BEGIN:VTIMEZONE
TZID:Australia/Sydney
BEGIN:STANDARD
TZOFFSETFROM:+1100
TZOFFSETTO:+1000
TZNAME:AEST
DTSTART:20250405T160000
END:STANDARD
BEGIN:DAYLIGHT
TZOFFSETFROM:+1000
TZOFFSETTO:+1100
TZNAME:AEDT
DTSTART:20251004T160000
END:DAYLIGHT
BEGIN:STANDARD
TZOFFSETFROM:+1100
TZOFFSETTO:+1000
TZNAME:AEST
DTSTART:20260404T160000
END:STANDARD
BEGIN:DAYLIGHT
TZOFFSETFROM:+1000
TZOFFSETTO:+1100
TZNAME:AEDT
DTSTART:20261003T160000
END:DAYLIGHT
BEGIN:STANDARD
TZOFFSETFROM:+1100
TZOFFSETTO:+1000
TZNAME:AEST
DTSTART:20270403T160000
END:STANDARD
BEGIN:DAYLIGHT
TZOFFSETFROM:+1000
TZOFFSETTO:+1100
TZNAME:AEDT
DTSTART:20271002T160000
END:DAYLIGHT
END:VTIMEZONE
BEGIN:VEVENT
DTSTART;TZID=Australia/Sydney:20260422T073000
DTEND;TZID=Australia/Sydney:20260422T113000
DTSTAMP:20260421T235521
CREATED:20260129T210520Z
LAST-MODIFIED:20260306T010435Z
UID:10002415-1776843000-1776857400@maxwellrt.com.au
SUMMARY:CPR
DESCRIPTION:CPR \nCPR\n\n\n- HLTAID009 Provide cardiopulmonary resuscitation \nUpcoming Training\nThere are currently no openings available for this course. \n\n\nProvide Cardiopulmonary Resuscitation (CPR)\n\nHLTAID009 Provide cardiopulmonary resuscitation is a nationally recognised unit of competency that provides you with the critical knowledge and hands-on skills to respond to breathing and cardiac emergencies in the workplace\, community\, or at home. This course focuses on teaching you how to identify life-threatening situations quickly and use CPR techniques to sustain life until professional medical help arrives. \n\nAccredited Units of Competency \n\nOn successful completion\, you will receive a Statement of Attainment for: \n\n\n	HLTAID009 Provide cardiopulmonary resuscitation\n\n\nPrerequisites \n\n\n	Nil\n	Note: You must have the physical ability to perform at least two minutes of uninterrupted CPR on a manikin placed on the floor\n\nBook Now\n\n  \n\nWhat You'll Learn\n\n\n	Recognise and respond to an unresponsive casualty\n	Perform CPR on adults\, children\, and infants following ARC guidelines\n	Use an AED to deliver a shock safely and effectively\n	Maintain continuous CPR while working with others in an emergency situation\n	Communicate effectively with emergency services and bystanders\n	Complete incident reports and workplace documentation after an emergency\n	Understand the importance of ongoing refresher training to keep your skills current\n\n\nWho Is This Course For?\n\n\n	Workplace first aiders or safety officers\n	Work in industries where CPR training is required by law or employer policy\n	Anyone wanting the skills to respond to emergencies at work\, home\, or in the community\n	Employees needing to maintain currency for industry compliance (annual refresher recommended)\n\nBook Now\n\n  \n\nHow the Training Works\n\nTraining Delivery \n\n\n	Delivered in person by a qualified trainer at one of Maxwell Training’s purpose-built simulators or an approved training facility\n	The total course duration includes practical activities and assessments\n	Learn through interactive presentations\, trainer demonstrations\, and realistic hands-on practice with manikins\, AED\, and first aid equipment\n\n\nPractical Activities Include \n\n\n	Performing CPR on adult\, child\, and infant manikins\n	Operating an AED\n	Managing an unresponsive casualty\, including placing them in the recovery position\n	Coordinating with others during an emergency scenario\n\n\nAssessment \n\n\n	Knowledge assessment (multiple choice theory questions)\n	A practical assessment to demonstrate CPR and AED use to the standard set by ARC guidelines\n\nBook Now\n\n  \n\nEntry Requirements\n\nTo fully participate and stay safe during practical activities\, you must meet the following requirements: \n\nGeneral Requirements \n\n\n	Proof of identity must be supplied by you on the day of training\n	You must be at least 14 years of age to participate in the training\n	Students under 18 years of age must supply parental consent (unless you are linked to an employer)\n	You need a Unique Student Identifier (USI). If you do not have one\, you can apply for it for free at www.usi.gov.au  \n\n\nLanguage\, Literacy\, Numeracy & Digital (LLND) \n\n\n	Read and follow simple written instructions and safety procedures (basic reading and writing at Year 10 level)\n	Follow verbal instructions from your trainer\n	Use a digital device (tablet/smartphone/laptop) for assessments\n\n\nPhysical Requirements \n\n\n	Be physically able to perform CPR on the floor for at least two minutes\n	Be able to kneel\, bend\, and perform compressions and breaths effectively\n	Be physically able to move quickly and safely to perform a rescue\n	Use rescue equipment without assistance\n\n\nGot Any Questions?\n\nIf you’d like to know more about this course\, entry requirements\, booking options\, or if you feel that you may need support in class…our team is here to help!\n\nCall us on 1300 MAXWEL or email bookings@maxwellrt.com.au and we’ll make sure you have all the information you need. \n \n\n\n \n\n\n\n \n\n\n \n\n\n \n\n\n \n\nEnquire
URL:https://maxwellrt.com.au/event/newcastle/cpr-2/
LOCATION:NEWCASTLE\, NEWCASTLE\, Australia
CATEGORIES:Workshop
END:VEVENT
END:VCALENDAR